BEGIN:VCALENDAR
VERSION:2.0
PRODID:spatie/icalendar-generator
DESCRIPTION:Events from Patriot 613
X-WR-CALDESC:Events from Patriot 613
REFRESH-INTERVAL;VALUE=DURATION:PT1440M
X-PUBLISHED-TTL:PT1440M
BEGIN:VTIMEZONE
TZID:Etc/GMT+0
BEGIN:STANDARD
DTSTART:20220721T170000Z
TZOFFSETFROM:+0000
TZOFFSETTO:+0000
END:STANDARD
END:VTIMEZONE
BEGIN:VTIMEZONE
TZID:UTC
BEGIN:STANDARD
DTSTART:20250726T084926Z
TZOFFSETFROM:+0000
TZOFFSETTO:+0000
END:STANDARD
END:VTIMEZONE
BEGIN:VEVENT
UID:39-23
DTSTAMP:20260422T084926Z
SUMMARY:Into to Appendix Carry
LOCATION:
ORGANIZER;CN=Grant Baverstock:MAILTO:support@dytronix.com
DTSTART;TZID=Etc/GMT+0:20230417T170000
DTEND;TZID=Etc/GMT+0:20230417T210000
X-ALT-DESC;FMTTYPE=TEXT/HTML:
CATEGORIES:General
URL;VALUE=URI:https://patriot613.ca/mc-events/into-to-appendix-carry/
METHOD:PUBLISH
END:VEVENT
END:VCALENDAR